Package: sccomp Version: 1.99.10 Command: /Library/Frameworks/R.framework/Resources/bin/R CMD build --keep-empty-dirs --no-resave-data sccomp StartedAt: 2025-02-12 17:30:18 -0500 (Wed, 12 Feb 2025) EndedAt: 2025-02-12 17:30:45 -0500 (Wed, 12 Feb 2025) EllapsedTime: 26.3 seconds RetCode: 0 Status: OK PackageFile: sccomp_1.99.10.tar.gz PackageFileSize: 3.063 MiB