Package: sccomp Version: 1.99.10 Command: /Library/Frameworks/R.framework/Resources/bin/R CMD check --install=check:sccomp.install-out.txt --library=/Library/Frameworks/R.framework/Resources/library --no-vignettes --timings sccomp_1.99.10.tar.gz StartedAt: 2025-02-12 21:15:32 -0500 (Wed, 12 Feb 2025) EndedAt: 2025-02-12 21:16:50 -0500 (Wed, 12 Feb 2025) EllapsedTime: 77.9 seconds RetCode: 0 Status: OK CheckDir: sccomp.Rcheck Warnings: 0