Package: sccomp Version: 1.99.10 Command: /Library/Frameworks/R.framework/Resources/bin/R CMD build --keep-empty-dirs --no-resave-data sccomp StartedAt: 2025-02-09 18:18:32 -0500 (Sun, 09 Feb 2025) EndedAt: 2025-02-09 18:19:46 -0500 (Sun, 09 Feb 2025) EllapsedTime: 74.5 seconds RetCode: 0 Status: OK PackageFile: sccomp_1.99.10.tar.gz PackageFileSize: 3.063 MiB