Package: sccomp Version: 1.99.10 Command: /home/biocbuild/bbs-3.21-bioc/R/bin/R CMD check --install=check:sccomp.install-out.txt --library=/home/biocbuild/bbs-3.21-bioc/R/site-library --timings sccomp_1.99.10.tar.gz StartedAt: 2025-02-10 02:15:41 -0500 (Mon, 10 Feb 2025) EndedAt: 2025-02-10 02:19:56 -0500 (Mon, 10 Feb 2025) EllapsedTime: 255.2 seconds RetCode: 0 Status: OK CheckDir: sccomp.Rcheck Warnings: 0