Package: sccomp Version: 1.99.10 Command: E:\biocbuild\bbs-3.21-bioc\R\bin\R.exe CMD check --no-multiarch --install=check:sccomp.install-out.txt --library=E:\biocbuild\bbs-3.21-bioc\R\library --no-vignettes --timings sccomp_1.99.10.tar.gz StartedAt: 2025-02-10 05:04:19 -0500 (Mon, 10 Feb 2025) EndedAt: 2025-02-10 05:08:10 -0500 (Mon, 10 Feb 2025) EllapsedTime: 230.6 seconds RetCode: 0 Status: OK CheckDir: sccomp.Rcheck Warnings: 0