Package: sccomp Version: 1.99.10 Command: E:\biocbuild\bbs-3.21-bioc\R\bin\R.exe CMD INSTALL sccomp StartedAt: 2025-02-09 16:20:45 -0500 (Sun, 09 Feb 2025) EndedAt: 2025-02-09 16:21:37 -0500 (Sun, 09 Feb 2025) EllapsedTime: 52.0 seconds RetCode: 0 Status: OK