Package: scde Version: 2.35.0 Command: /Library/Frameworks/R.framework/Resources/bin/R CMD build --keep-empty-dirs --no-resave-data scde StartedAt: 2025-02-03 18:07:09 -0500 (Mon, 03 Feb 2025) EndedAt: 2025-02-03 18:07:10 -0500 (Mon, 03 Feb 2025) EllapsedTime: 1.0 seconds RetCode: 0 Status: OK PackageFile: scde_2.35.0.tar.gz PackageFileSize: 1.059 MiB