Package: scde Version: 2.35.0 Command: /Library/Frameworks/R.framework/Resources/bin/R CMD INSTALL scde StartedAt: 2025-02-09 15:22:46 -0500 (Sun, 09 Feb 2025) EndedAt: 2025-02-09 15:23:02 -0500 (Sun, 09 Feb 2025) EllapsedTime: 15.5 seconds RetCode: 0 Status: OK