Package: scde Version: 2.35.0 Command: /home/biocbuild/R/R/bin/R CMD INSTALL scde StartedAt: 2025-01-29 20:23:13 -0000 (Wed, 29 Jan 2025) EndedAt: 2025-01-29 20:24:36 -0000 (Wed, 29 Jan 2025) EllapsedTime: 83.2 seconds RetCode: 0 Status: OK