Package: scde Version: 2.35.0 Command: rm -rf scde.buildbin-libdir && mkdir scde.buildbin-libdir && /Users/biocbuild/BBS/utils/build-universal.sh scde_2.35.0.tar.gz /Library/Frameworks/R.framework/Resources/bin/R scde.buildbin-libdir StartedAt: 2025-02-10 01:14:43 -0500 (Mon, 10 Feb 2025) EndedAt: 2025-02-10 01:15:52 -0500 (Mon, 10 Feb 2025) EllapsedTime: 68.0 seconds RetCode: 0 Status: OK PackageFile: scde_2.35.0.tgz PackageFileSize: 2.163 MiB