Package: scde Version: 2.35.0 Command: /Library/Frameworks/R.framework/Resources/bin/R CMD check --install=check:scde.install-out.txt --library=/Library/Frameworks/R.framework/Resources/library --no-vignettes --timings scde_2.35.0.tar.gz StartedAt: 2025-02-09 23:23:23 -0500 (Sun, 09 Feb 2025) EndedAt: 2025-02-09 23:25:55 -0500 (Sun, 09 Feb 2025) EllapsedTime: 152.1 seconds RetCode: 0 Status: WARNINGS CheckDir: scde.Rcheck Warnings: 3