Package: scde Version: 2.35.0 Command: /home/biocbuild/bbs-3.21-bioc/R/bin/R CMD check --install=check:scde.install-out.txt --library=/home/biocbuild/bbs-3.21-bioc/R/site-library --timings scde_2.35.0.tar.gz StartedAt: 2025-02-10 02:17:34 -0500 (Mon, 10 Feb 2025) EndedAt: 2025-02-10 02:20:08 -0500 (Mon, 10 Feb 2025) EllapsedTime: 154.1 seconds RetCode: 0 Status: WARNINGS CheckDir: scde.Rcheck Warnings: 2