Package: scde Version: 2.35.0 Command: rm -rf scde.buildbin-libdir && mkdir scde.buildbin-libdir && E:\biocbuild\bbs-3.21-bioc\R\bin\R.exe CMD INSTALL --build --library=scde.buildbin-libdir scde_2.35.0.tar.gz StartedAt: 2025-02-10 08:38:32 -0500 (Mon, 10 Feb 2025) EndedAt: 2025-02-10 08:40:39 -0500 (Mon, 10 Feb 2025) EllapsedTime: 127.1 seconds RetCode: 0 Status: OK PackageFile: scde_2.35.0.zip PackageFileSize: 2.508 MiB