Package: scde Version: 2.35.0 Command: E:\biocbuild\bbs-3.21-bioc\R\bin\R.exe CMD INSTALL scde StartedAt: 2025-02-03 16:12:29 -0500 (Mon, 03 Feb 2025) EndedAt: 2025-02-03 16:13:45 -0500 (Mon, 03 Feb 2025) EllapsedTime: 75.8 seconds RetCode: 0 Status: OK