Package: scifer Version: 1.9.0 Command: rm -rf scifer.buildbin-libdir && mkdir scifer.buildbin-libdir && /Users/biocbuild/BBS/utils/build-universal.sh scifer_1.9.0.tar.gz /Library/Frameworks/R.framework/Resources/bin/R scifer.buildbin-libdir StartedAt: 2025-02-10 01:15:04 -0500 (Mon, 10 Feb 2025) EndedAt: 2025-02-10 01:15:34 -0500 (Mon, 10 Feb 2025) EllapsedTime: 30.0 seconds RetCode: 0 Status: OK PackageFile: scifer_1.9.0.tgz PackageFileSize: 1.56 MiB