Package: scifer Version: 1.9.0 Command: /home/biocbuild/bbs-3.21-bioc/R/bin/R CMD INSTALL scifer StartedAt: 2025-02-12 15:50:07 -0500 (Wed, 12 Feb 2025) EndedAt: 2025-02-12 15:50:22 -0500 (Wed, 12 Feb 2025) EllapsedTime: 15.2 seconds RetCode: 0 Status: OK