Package: scmeth Version: 1.27.0 Command: /home/biocbuild/bbs-3.21-bioc/R/bin/R CMD check --install=check:scmeth.install-out.txt --library=/home/biocbuild/bbs-3.21-bioc/R/site-library --timings scmeth_1.27.0.tar.gz StartedAt: 2025-02-05 02:29:51 -0500 (Wed, 05 Feb 2025) EndedAt: 2025-02-05 02:36:57 -0500 (Wed, 05 Feb 2025) EllapsedTime: 426.4 seconds RetCode: 0 Status: OK CheckDir: scmeth.Rcheck Warnings: 0