Package: scmeth Version: 1.27.0 Command: E:\biocbuild\bbs-3.21-bioc\R\bin\R.exe CMD INSTALL scmeth StartedAt: 2025-02-04 16:22:45 -0500 (Tue, 04 Feb 2025) EndedAt: 2025-02-04 16:23:50 -0500 (Tue, 04 Feb 2025) EllapsedTime: 64.7 seconds RetCode: 0 Status: OK