Package: scoreInvHap Version: 1.29.0 Command: /Library/Frameworks/R.framework/Resources/bin/R CMD INSTALL scoreInvHap StartedAt: 2025-02-09 15:22:52 -0500 (Sun, 09 Feb 2025) EndedAt: 2025-02-09 15:23:09 -0500 (Sun, 09 Feb 2025) EllapsedTime: 16.9 seconds RetCode: 0 Status: OK