Package: scoreInvHap Version: 1.29.0 Command: /home/biocbuild/bbs-3.21-bioc/R/bin/R CMD check --install=check:scoreInvHap.install-out.txt --library=/home/biocbuild/bbs-3.21-bioc/R/site-library --timings scoreInvHap_1.29.0.tar.gz StartedAt: 2025-02-10 02:24:39 -0500 (Mon, 10 Feb 2025) EndedAt: 2025-02-10 02:29:42 -0500 (Mon, 10 Feb 2025) EllapsedTime: 302.3 seconds RetCode: 0 Status: OK CheckDir: scoreInvHap.Rcheck Warnings: 0