Package: scoreInvHap Version: 1.29.0 Command: rm -rf scoreInvHap.buildbin-libdir && mkdir scoreInvHap.buildbin-libdir && E:\biocbuild\bbs-3.21-bioc\R\bin\R.exe CMD INSTALL --build --library=scoreInvHap.buildbin-libdir scoreInvHap_1.29.0.tar.gz StartedAt: 2025-02-10 08:39:49 -0500 (Mon, 10 Feb 2025) EndedAt: 2025-02-10 08:41:04 -0500 (Mon, 10 Feb 2025) EllapsedTime: 74.7 seconds RetCode: 0 Status: OK PackageFile: scoreInvHap_1.29.0.zip PackageFileSize: 1.515 MiB