Package: scoreInvHap Version: 1.29.0 Command: chmod a+r scoreInvHap -R && E:\biocbuild\bbs-3.21-bioc\R\bin\R.exe CMD build --keep-empty-dirs --no-resave-data scoreInvHap StartedAt: 2025-02-09 21:29:36 -0500 (Sun, 09 Feb 2025) EndedAt: 2025-02-09 21:31:42 -0500 (Sun, 09 Feb 2025) EllapsedTime: 125.4 seconds RetCode: 0 Status: OK PackageFile: scoreInvHap_1.29.0.tar.gz PackageFileSize: 1.022 MiB