Package: scoreInvHap Version: 1.29.0 Command: E:\biocbuild\bbs-3.21-bioc\R\bin\R.exe CMD check --no-multiarch --install=check:scoreInvHap.install-out.txt --library=E:\biocbuild\bbs-3.21-bioc\R\library --no-vignettes --timings scoreInvHap_1.29.0.tar.gz StartedAt: 2025-02-10 05:11:43 -0500 (Mon, 10 Feb 2025) EndedAt: 2025-02-10 05:16:59 -0500 (Mon, 10 Feb 2025) EllapsedTime: 316.2 seconds RetCode: 0 Status: OK CheckDir: scoreInvHap.Rcheck Warnings: 0