Package: scoreInvHap Version: 1.29.0 Command: E:\biocbuild\bbs-3.21-bioc\R\bin\R.exe CMD INSTALL scoreInvHap StartedAt: 2025-02-09 16:41:48 -0500 (Sun, 09 Feb 2025) EndedAt: 2025-02-09 16:42:51 -0500 (Sun, 09 Feb 2025) EllapsedTime: 63.4 seconds RetCode: 0 Status: OK