Package: scoup Version: 1.1.4 Maintainer: Hassan Sadiq MaintainerEmail: hassan.t.sadiq at gmail.com git_url: https://git.bioconductor.org/packages/scoup git_branch: devel git_last_commit: 7bef057 git_last_commit_date: 2025-01-08 08:46:39 -0500 (Wed, 08 Jan 2025)