Package: scoup Version: 1.1.4 Command: /Library/Frameworks/R.framework/Resources/bin/R CMD check --install=check:scoup.install-out.txt --library=/Library/Frameworks/R.framework/Resources/library --no-vignettes --timings scoup_1.1.4.tar.gz StartedAt: 2025-02-10 21:15:53 -0500 (Mon, 10 Feb 2025) EndedAt: 2025-02-10 21:16:52 -0500 (Mon, 10 Feb 2025) EllapsedTime: 58.7 seconds RetCode: 0 Status: OK CheckDir: scoup.Rcheck Warnings: 0