Package: scoup Version: 1.1.4 Command: /Library/Frameworks/R.framework/Resources/bin/R CMD INSTALL scoup StartedAt: 2025-02-10 15:04:22 -0500 (Mon, 10 Feb 2025) EndedAt: 2025-02-10 15:04:28 -0500 (Mon, 10 Feb 2025) EllapsedTime: 5.4 seconds RetCode: 0 Status: OK