Package: scoup Version: 1.1.4 Command: /home/biocbuild/R/R/bin/R CMD INSTALL scoup StartedAt: 2025-01-29 19:39:01 -0000 (Wed, 29 Jan 2025) EndedAt: 2025-01-29 19:39:20 -0000 (Wed, 29 Jan 2025) EllapsedTime: 18.8 seconds RetCode: 0 Status: OK