Package: scoup Version: 1.1.4 Command: /Library/Frameworks/R.framework/Resources/bin/R CMD build --keep-empty-dirs --no-resave-data scoup StartedAt: 2025-02-10 18:14:28 -0500 (Mon, 10 Feb 2025) EndedAt: 2025-02-10 18:14:57 -0500 (Mon, 10 Feb 2025) EllapsedTime: 28.6 seconds RetCode: 0 Status: OK PackageFile: scoup_1.1.4.tar.gz PackageFileSize: 334.2 KiB