Package: scoup Version: 1.1.4 Command: /home/biocbuild/bbs-3.21-bioc/R/bin/R CMD build --keep-empty-dirs --no-resave-data scoup StartedAt: 2025-02-10 19:18:46 -0500 (Mon, 10 Feb 2025) EndedAt: 2025-02-10 19:19:08 -0500 (Mon, 10 Feb 2025) EllapsedTime: 22.0 seconds RetCode: 0 Status: OK PackageFile: scoup_1.1.4.tar.gz PackageFileSize: 334.4 KiB