Package: scoup Version: 1.1.4 Command: /home/biocbuild/bbs-3.21-bioc/R/bin/R CMD check --install=check:scoup.install-out.txt --library=/home/biocbuild/bbs-3.21-bioc/R/site-library --timings scoup_1.1.4.tar.gz StartedAt: 2025-02-11 02:33:31 -0500 (Tue, 11 Feb 2025) EndedAt: 2025-02-11 02:36:12 -0500 (Tue, 11 Feb 2025) EllapsedTime: 161.1 seconds RetCode: 0 Status: OK CheckDir: scoup.Rcheck Warnings: 0