Package: scoup Version: 1.1.4 Command: /home/biocbuild/bbs-3.21-bioc/R/bin/R CMD INSTALL scoup StartedAt: 2025-02-10 15:23:22 -0500 (Mon, 10 Feb 2025) EndedAt: 2025-02-10 15:23:35 -0500 (Mon, 10 Feb 2025) EllapsedTime: 13.1 seconds RetCode: 0 Status: OK