Package: scoup Version: 1.1.4 Command: chmod a+r scoup -R && E:\biocbuild\bbs-3.21-bioc\R\bin\R.exe CMD build --keep-empty-dirs --no-resave-data scoup StartedAt: 2025-02-09 21:29:38 -0500 (Sun, 09 Feb 2025) EndedAt: 2025-02-09 21:30:45 -0500 (Sun, 09 Feb 2025) EllapsedTime: 67.5 seconds RetCode: 0 Status: OK PackageFile: scoup_1.1.4.tar.gz PackageFileSize: 334.7 KiB