Package: scoup Version: 1.1.4 Command: E:\biocbuild\bbs-3.21-bioc\R\bin\R.exe CMD check --no-multiarch --install=check:scoup.install-out.txt --library=E:\biocbuild\bbs-3.21-bioc\R\library --no-vignettes --timings scoup_1.1.4.tar.gz StartedAt: 2025-02-10 05:11:54 -0500 (Mon, 10 Feb 2025) EndedAt: 2025-02-10 05:15:00 -0500 (Mon, 10 Feb 2025) EllapsedTime: 186.1 seconds RetCode: 0 Status: OK CheckDir: scoup.Rcheck Warnings: 0