Package: scoup Version: 1.1.4 Command: E:\biocbuild\bbs-3.21-bioc\R\bin\R.exe CMD INSTALL scoup StartedAt: 2025-02-09 15:40:15 -0500 (Sun, 09 Feb 2025) EndedAt: 2025-02-09 15:41:00 -0500 (Sun, 09 Feb 2025) EllapsedTime: 44.5 seconds RetCode: 0 Status: OK