Package: scp Version: 1.17.0 Maintainer: Christophe Vanderaa MaintainerEmail: christophe.vanderaa at ugent.be git_url: https://git.bioconductor.org/packages/scp git_branch: devel git_last_commit: aa22264 git_last_commit_date: 2024-10-29 10:51:35 -0500 (Tue, 29 Oct 2024)