Package: scp Version: 1.17.0 Command: rm -rf scp.buildbin-libdir && mkdir scp.buildbin-libdir && /Users/biocbuild/BBS/utils/build-universal.sh scp_1.17.0.tar.gz /Library/Frameworks/R.framework/Resources/bin/R scp.buildbin-libdir StartedAt: 2025-02-09 22:30:03 -0500 (Sun, 09 Feb 2025) EndedAt: 2025-02-09 22:30:18 -0500 (Sun, 09 Feb 2025) EllapsedTime: 14.3 seconds RetCode: 0 Status: OK PackageFile: scp_1.17.0.tgz PackageFileSize: 7.129 MiB