Package: scp Version: 1.17.0 Command: /Library/Frameworks/R.framework/Resources/bin/R CMD check --install=check:scp.install-out.txt --library=/Library/Frameworks/R.framework/Resources/library --no-vignettes --timings scp_1.17.0.tar.gz StartedAt: 2025-02-09 21:14:48 -0500 (Sun, 09 Feb 2025) EndedAt: 2025-02-09 21:17:33 -0500 (Sun, 09 Feb 2025) EllapsedTime: 165.0 seconds RetCode: 1 Status: ERROR CheckDir: scp.Rcheck Warnings: NA