Package: scp Version: 1.17.0 Command: /home/biocbuild/R/R/bin/R CMD INSTALL scp StartedAt: 2025-01-29 20:08:46 -0000 (Wed, 29 Jan 2025) EndedAt: 2025-01-29 20:09:28 -0000 (Wed, 29 Jan 2025) EllapsedTime: 42.2 seconds RetCode: 0 Status: OK