Package: scp Version: 1.17.0 Command: rm -rf scp.buildbin-libdir && mkdir scp.buildbin-libdir && /Users/biocbuild/BBS/utils/build-universal.sh scp_1.17.0.tar.gz /Library/Frameworks/R.framework/Resources/bin/R scp.buildbin-libdir StartedAt: 2025-02-10 01:15:21 -0500 (Mon, 10 Feb 2025) EndedAt: 2025-02-10 01:16:09 -0500 (Mon, 10 Feb 2025) EllapsedTime: 47.4 seconds RetCode: 0 Status: OK PackageFile: scp_1.17.0.tgz PackageFileSize: 7.129 MiB