Package: scp Version: 1.17.0 Command: /Library/Frameworks/R.framework/Resources/bin/R CMD check --install=check:scp.install-out.txt --library=/Library/Frameworks/R.framework/Resources/library --no-vignettes --timings scp_1.17.0.tar.gz StartedAt: 2025-02-03 23:11:06 -0500 (Mon, 03 Feb 2025) EndedAt: 2025-02-03 23:19:51 -0500 (Mon, 03 Feb 2025) EllapsedTime: 525.2 seconds RetCode: 0 Status: OK CheckDir: scp.Rcheck Warnings: 0