Package: scp Version: 1.17.0 Command: /home/biocbuild/bbs-3.21-bioc/R/bin/R CMD build --keep-empty-dirs --no-resave-data scp StartedAt: 2025-02-04 19:07:31 -0500 (Tue, 04 Feb 2025) EndedAt: 2025-02-04 19:11:36 -0500 (Tue, 04 Feb 2025) EllapsedTime: 245.2 seconds RetCode: 0 Status: OK PackageFile: scp_1.17.0.tar.gz PackageFileSize: 8.489 MiB