Package: scp Version: 1.17.0 Command: /home/biocbuild/bbs-3.21-bioc/R/bin/R CMD INSTALL scp StartedAt: 2025-02-04 15:32:36 -0500 (Tue, 04 Feb 2025) EndedAt: 2025-02-04 15:33:05 -0500 (Tue, 04 Feb 2025) EllapsedTime: 29.6 seconds RetCode: 0 Status: OK