Package: scp Version: 1.17.0 Command: rm -rf scp.buildbin-libdir && mkdir scp.buildbin-libdir && E:\biocbuild\bbs-3.21-bioc\R\bin\R.exe CMD INSTALL --build --library=scp.buildbin-libdir scp_1.17.0.tar.gz StartedAt: 2025-02-10 08:39:56 -0500 (Mon, 10 Feb 2025) EndedAt: 2025-02-10 08:41:14 -0500 (Mon, 10 Feb 2025) EllapsedTime: 77.9 seconds RetCode: 0 Status: OK PackageFile: scp_1.17.0.zip PackageFileSize: 4.988 MiB