Package: scp Version: 1.17.0 Command: chmod a+r scp -R && E:\biocbuild\bbs-3.21-bioc\R\bin\R.exe CMD build --keep-empty-dirs --no-resave-data scp StartedAt: 2025-02-09 21:29:43 -0500 (Sun, 09 Feb 2025) EndedAt: 2025-02-09 21:38:00 -0500 (Sun, 09 Feb 2025) EllapsedTime: 497.3 seconds RetCode: 0 Status: OK PackageFile: scp_1.17.0.tar.gz PackageFileSize: 6.693 MiB