Package: scp Version: 1.17.0 Command: E:\biocbuild\bbs-3.21-bioc\R\bin\R.exe CMD INSTALL scp StartedAt: 2025-02-09 16:21:55 -0500 (Sun, 09 Feb 2025) EndedAt: 2025-02-09 16:22:39 -0500 (Sun, 09 Feb 2025) EllapsedTime: 44.0 seconds RetCode: 0 Status: OK