Package: scran Version: 1.35.0 Command: /home/biocbuild/R/R/bin/R CMD build --keep-empty-dirs --no-resave-data scran StartedAt: 2025-01-29 02:09:12 -0000 (Wed, 29 Jan 2025) EndedAt: 2025-01-29 02:14:15 -0000 (Wed, 29 Jan 2025) EllapsedTime: 303.2 seconds RetCode: 0 Status: OK PackageFile: scran_1.35.0.tar.gz PackageFileSize: 1.245 MiB