Package: scran Version: 1.35.0 Command: chmod a+r scran -R && E:\biocbuild\bbs-3.21-bioc\R\bin\R.exe CMD build --keep-empty-dirs --no-resave-data scran StartedAt: 2025-02-09 21:30:57 -0500 (Sun, 09 Feb 2025) EndedAt: 2025-02-09 21:35:53 -0500 (Sun, 09 Feb 2025) EllapsedTime: 296.2 seconds RetCode: 0 Status: OK PackageFile: scran_1.35.0.tar.gz PackageFileSize: 1.01 MiB