Package: scran Version: 1.35.0 Command: E:\biocbuild\bbs-3.21-bioc\R\bin\R.exe CMD INSTALL scran StartedAt: 2025-02-09 16:24:04 -0500 (Sun, 09 Feb 2025) EndedAt: 2025-02-09 16:25:52 -0500 (Sun, 09 Feb 2025) EllapsedTime: 108.4 seconds RetCode: 0 Status: OK