Package: scrapper Version: 1.1.12 Command: /Library/Frameworks/R.framework/Resources/bin/R CMD build --keep-empty-dirs --no-resave-data scrapper StartedAt: 2025-02-03 18:09:26 -0500 (Mon, 03 Feb 2025) EndedAt: 2025-02-03 18:12:10 -0500 (Mon, 03 Feb 2025) EllapsedTime: 163.8 seconds RetCode: 0 Status: OK PackageFile: scrapper_1.1.12.tar.gz PackageFileSize: 681.2 KiB